BEGIN:VCALENDAR
VERSION:2.0
PRODID:-//Bella Stella - ECPv5.2.0//NONSGML v1.0//EN
CALSCALE:GREGORIAN
METHOD:PUBLISH
X-WR-CALNAME:Bella Stella
X-ORIGINAL-URL:http://bellastellabeads.com
X-WR-CALDESC:Events for Bella Stella
BEGIN:VTIMEZONE
TZID:America/New_York
BEGIN:DAYLIGHT
TZOFFSETFROM:-0500
TZOFFSETTO:-0400
TZNAME:EDT
DTSTART:20190310T070000
END:DAYLIGHT
BEGIN:STANDARD
TZOFFSETFROM:-0400
TZOFFSETTO:-0500
TZNAME:EST
DTSTART:20191103T060000
END:STANDARD
END:VTIMEZONE
BEGIN:VEVENT
DTSTART;TZID=America/New_York:20190420T110000
DTEND;TZID=America/New_York:20190420T130000
DTSTAMP:20260425T142317
CREATED:20190331T232932Z
LAST-MODIFIED:20190331T233050Z
UID:88792-1555758000-1555765200@bellastellabeads.com
SUMMARY:Tila Twin Wiggle Bracelet
DESCRIPTION:Such a fun bracelet.  Tila beads and super duos wiggle around this bracelet.
URL:http://bellastellabeads.com/event/tila-twin-wiggle-bracelet/
LOCATION:Bella Stella\, 23 Plaistow Road Unit 4\, Plaistow\, NH\, 03865\, United States
CATEGORIES:Classes
ATTACH;FMTTYPE=image/jpeg:http://bellastellabeads.com/wp-content/uploads/2019/03/TilaTwinWiggle-image.jpg
ORGANIZER;CN="Bella%20Stella":MAILTO:carol@bellastellabeads.com
END:VEVENT
END:VCALENDAR