BEGIN:VCALENDAR
VERSION:2.0
PRODID:-//Bella Stella - ECPv5.2.0//NONSGML v1.0//EN
CALSCALE:GREGORIAN
METHOD:PUBLISH
X-WR-CALNAME:Bella Stella
X-ORIGINAL-URL:http://bellastellabeads.com
X-WR-CALDESC:Events for Bella Stella
BEGIN:VTIMEZONE
TZID:America/New_York
BEGIN:DAYLIGHT
TZOFFSETFROM:-0500
TZOFFSETTO:-0400
TZNAME:EDT
DTSTART:20190310T070000
END:DAYLIGHT
BEGIN:STANDARD
TZOFFSETFROM:-0400
TZOFFSETTO:-0500
TZNAME:EST
DTSTART:20191103T060000
END:STANDARD
END:VTIMEZONE
BEGIN:VEVENT
DTSTART;TZID=America/New_York:20190406T110000
DTEND;TZID=America/New_York:20190406T130000
DTSTAMP:20260425T142306
CREATED:20190331T231816Z
LAST-MODIFIED:20190331T232308Z
UID:88782-1554548400-1554555600@bellastellabeads.com
SUMMARY:Vanguard Ribbon Bracelet
DESCRIPTION:The Bracelet Base is worked in even count flat peyote and embelished with beads and crystals. Your choice of embelishing beads/crystals will influence the finished bracelet from casual to formal.
URL:http://bellastellabeads.com/event/vanguard-ribbon-bracelet/
LOCATION:Bella Stella\, 23 Plaistow Road Unit 4\, Plaistow\, NH\, 03865\, United States
CATEGORIES:Classes
ATTACH;FMTTYPE=image/jpeg:http://bellastellabeads.com/wp-content/uploads/2019/03/Vanguard-Ribbon-image.jpg
ORGANIZER;CN="Bella%20Stella":MAILTO:carol@bellastellabeads.com
END:VEVENT
END:VCALENDAR