BEGIN:VCALENDAR
VERSION:2.0
PRODID:-//Bella Stella - ECPv5.2.0//NONSGML v1.0//EN
CALSCALE:GREGORIAN
METHOD:PUBLISH
X-WR-CALNAME:Bella Stella
X-ORIGINAL-URL:http://bellastellabeads.com
X-WR-CALDESC:Events for Bella Stella
BEGIN:VTIMEZONE
TZID:America/New_York
BEGIN:DAYLIGHT
TZOFFSETFROM:-0500
TZOFFSETTO:-0400
TZNAME:EDT
DTSTART:20190310T070000
END:DAYLIGHT
BEGIN:STANDARD
TZOFFSETFROM:-0400
TZOFFSETTO:-0500
TZNAME:EST
DTSTART:20191103T060000
END:STANDARD
END:VTIMEZONE
BEGIN:VEVENT
DTSTART;TZID=America/New_York:20190727T110000
DTEND;TZID=America/New_York:20190727T130000
DTSTAMP:20260425T132428
CREATED:20190702T123451Z
LAST-MODIFIED:20190702T123451Z
UID:88826-1564225200-1564232400@bellastellabeads.com
SUMMARY:Russian Leaf Earrings
DESCRIPTION:Too many patterns and color combinations to show. Perfect for a bride in white/gold and perfect for a casual look too in any color. Once you learn the technique you will have fun making your own designs.
URL:http://bellastellabeads.com/event/russian-leaf-earrings/
CATEGORIES:Classes
ATTACH;FMTTYPE=image/jpeg:http://bellastellabeads.com/wp-content/uploads/2019/07/c9aea03e98b1923046ae10682b9878e2.jpg
ORGANIZER;CN="Bella%20Stella":MAILTO:carol@bellastellabeads.com
END:VEVENT
END:VCALENDAR