BEGIN:VCALENDAR
VERSION:2.0
PRODID:-//Bella Stella - ECPv5.2.0//NONSGML v1.0//EN
CALSCALE:GREGORIAN
METHOD:PUBLISH
X-WR-CALNAME:Bella Stella
X-ORIGINAL-URL:http://bellastellabeads.com
X-WR-CALDESC:Events for Bella Stella
BEGIN:VTIMEZONE
TZID:America/New_York
BEGIN:DAYLIGHT
TZOFFSETFROM:-0500
TZOFFSETTO:-0400
TZNAME:EDT
DTSTART:20180311T070000
END:DAYLIGHT
BEGIN:STANDARD
TZOFFSETFROM:-0400
TZOFFSETTO:-0500
TZNAME:EST
DTSTART:20181104T060000
END:STANDARD
END:VTIMEZONE
BEGIN:VEVENT
DTSTART;TZID=America/New_York:20181124T110000
DTEND;TZID=America/New_York:20181124T130000
DTSTAMP:20260419T154333
CREATED:20181120T160745Z
LAST-MODIFIED:20181120T160745Z
UID:88718-1543057200-1543064400@bellastellabeads.com
SUMMARY:Saturn Connection Bracelet
DESCRIPTION:Create components that are out of this world using herringbone and ladder stitches\, then form seamless connections for an intriguing bracelet design.
URL:http://bellastellabeads.com/event/saturn-connection-bracelet/
LOCATION:Bella Stella\, 23 Plaistow Road Unit 4\, Plaistow\, NH\, 03865\, United States
CATEGORIES:Classes
ATTACH;FMTTYPE=image/jpeg:http://bellastellabeads.com/wp-content/uploads/2018/11/SaturnConnections-image.jpg
ORGANIZER;CN="Bella%20Stella":MAILTO:carol@bellastellabeads.com
END:VEVENT
END:VCALENDAR