BEGIN:VCALENDAR
VERSION:2.0
PRODID:-//Bella Stella - ECPv5.2.0//NONSGML v1.0//EN
CALSCALE:GREGORIAN
METHOD:PUBLISH
X-WR-CALNAME:Bella Stella
X-ORIGINAL-URL:http://bellastellabeads.com
X-WR-CALDESC:Events for Bella Stella
BEGIN:VTIMEZONE
TZID:America/New_York
BEGIN:DAYLIGHT
TZOFFSETFROM:-0500
TZOFFSETTO:-0400
TZNAME:EDT
DTSTART:20180311T070000
END:DAYLIGHT
BEGIN:STANDARD
TZOFFSETFROM:-0400
TZOFFSETTO:-0500
TZNAME:EST
DTSTART:20181104T060000
END:STANDARD
END:VTIMEZONE
BEGIN:VEVENT
DTSTART;TZID=America/New_York:20181208T110000
DTEND;TZID=America/New_York:20181208T130000
DTSTAMP:20260419T104316
CREATED:20180601T185045Z
LAST-MODIFIED:20181115T220642Z
UID:88630-1544266800-1544274000@bellastellabeads.com
SUMMARY:Intermediate - Peyote Fan Necklace
DESCRIPTION:Materials not included and must be purchased at the time of the class.
URL:http://bellastellabeads.com/event/pinch-berries-earrings/
CATEGORIES:Classes
ATTACH;FMTTYPE=image/jpeg:http://bellastellabeads.com/wp-content/uploads/2018/06/Peyote-Fan-Necklace.jpg
ORGANIZER;CN="Bella%20Stella":MAILTO:carol@bellastellabeads.com
END:VEVENT
END:VCALENDAR