BEGIN:VCALENDAR
VERSION:2.0
PRODID:-//Bella Stella - ECPv5.2.0//NONSGML v1.0//EN
CALSCALE:GREGORIAN
METHOD:PUBLISH
X-WR-CALNAME:Bella Stella
X-ORIGINAL-URL:http://bellastellabeads.com
X-WR-CALDESC:Events for Bella Stella
BEGIN:VTIMEZONE
TZID:America/New_York
BEGIN:DAYLIGHT
TZOFFSETFROM:-0500
TZOFFSETTO:-0400
TZNAME:EDT
DTSTART:20180311T070000
END:DAYLIGHT
BEGIN:STANDARD
TZOFFSETFROM:-0400
TZOFFSETTO:-0500
TZNAME:EST
DTSTART:20181104T060000
END:STANDARD
END:VTIMEZONE
BEGIN:VEVENT
DTSTART;TZID=America/New_York:20181027T110000
DTEND;TZID=America/New_York:20181027T110000
DTSTAMP:20260419T200115
CREATED:20180118T213140Z
LAST-MODIFIED:20180930T123003Z
UID:88479-1540638000-1540638000@bellastellabeads.com
SUMMARY:Intermediate - RAW Rainbow
DESCRIPTION:  \nMaterials not included and must be purchased at the time of the class.
URL:http://bellastellabeads.com/event/intermediate-caravan-strands/
CATEGORIES:Classes
ATTACH;FMTTYPE=image/jpeg:http://bellastellabeads.com/wp-content/uploads/2018/01/Villages-RAW-Bracelet-Cropped.jpg
END:VEVENT
END:VCALENDAR