BEGIN:VCALENDAR
VERSION:2.0
PRODID:-//Bella Stella - ECPv5.2.0//NONSGML v1.0//EN
CALSCALE:GREGORIAN
METHOD:PUBLISH
X-WR-CALNAME:Bella Stella
X-ORIGINAL-URL:http://bellastellabeads.com
X-WR-CALDESC:Events for Bella Stella
BEGIN:VTIMEZONE
TZID:America/New_York
BEGIN:DAYLIGHT
TZOFFSETFROM:-0500
TZOFFSETTO:-0400
TZNAME:EDT
DTSTART:20180311T070000
END:DAYLIGHT
BEGIN:STANDARD
TZOFFSETFROM:-0400
TZOFFSETTO:-0500
TZNAME:EST
DTSTART:20181104T060000
END:STANDARD
END:VTIMEZONE
BEGIN:VEVENT
DTSTART;TZID=America/New_York:20181202T080000
DTEND;TZID=America/New_York:20181202T170000
DTSTAMP:20260419T122516
CREATED:20181120T154949Z
LAST-MODIFIED:20181120T154949Z
UID:88715-1543737600-1543770000@bellastellabeads.com
SUMMARY:Hanukkah
DESCRIPTION:
URL:http://bellastellabeads.com/event/hanukkah/
ATTACH;FMTTYPE=image/jpeg:http://bellastellabeads.com/wp-content/uploads/2018/11/hannukah.jpg
END:VEVENT
END:VCALENDAR