BEGIN:VCALENDAR
VERSION:2.0
PRODID:-//Bella Stella - ECPv5.2.0//NONSGML v1.0//EN
CALSCALE:GREGORIAN
METHOD:PUBLISH
X-WR-CALNAME:Bella Stella
X-ORIGINAL-URL:http://bellastellabeads.com
X-WR-CALDESC:Events for Bella Stella
BEGIN:VTIMEZONE
TZID:America/New_York
BEGIN:DAYLIGHT
TZOFFSETFROM:-0500
TZOFFSETTO:-0400
TZNAME:EDT
DTSTART:20180311T070000
END:DAYLIGHT
BEGIN:STANDARD
TZOFFSETFROM:-0400
TZOFFSETTO:-0500
TZNAME:EST
DTSTART:20181104T060000
END:STANDARD
END:VTIMEZONE
BEGIN:VEVENT
DTSTART;TZID=America/New_York:20180804T173000
DTEND;TZID=America/New_York:20180831T203000
DTSTAMP:20260420T002629
CREATED:20180809T151531Z
LAST-MODIFIED:20180809T160101Z
UID:88665-1533403800-1535747400@bellastellabeads.com
SUMMARY:Objects & Projects: Handmade in Haverhill
DESCRIPTION:Buttonwoods Museum\, Haverhill\, MA\nThe exhibit highlights craftsmanship past and present\nAugust 4 – September 1\nI’m proud to be an exhibitor. Please visit me.\nThe MAKERS’ GALA and LIVE AUCTION is August 9\, 530-830\nThe auction starts promptly at 630\nLots of great products and services.
URL:http://bellastellabeads.com/event/88665/
LOCATION:Buttonwoods\, 240 Water Street\, Haverhill\, MA\, 01830\, United States
END:VEVENT
END:VCALENDAR